Package: covRNA Version: 1.32.0 Command: chmod a+r covRNA -R && F:\biocbuild\bbs-3.20-bioc\R\bin\R.exe CMD build --keep-empty-dirs --no-resave-data covRNA StartedAt: 2025-02-03 18:23:20 -0500 (Mon, 03 Feb 2025) EndedAt: 2025-02-03 18:24:31 -0500 (Mon, 03 Feb 2025) EllapsedTime: 71.4 seconds RetCode: 0 Status: OK PackageFile: covRNA_1.32.0.tar.gz PackageFileSize: 519.6 KiB