Package: covRNA Version: 1.32.0 Command: F:\biocbuild\bbs-3.20-bioc\R\bin\R.exe CMD check --no-multiarch --install=check:covRNA.install-out.txt --library=F:\biocbuild\bbs-3.20-bioc\R\library --no-vignettes --timings covRNA_1.32.0.tar.gz StartedAt: 2025-02-04 00:41:02 -0500 (Tue, 04 Feb 2025) EndedAt: 2025-02-04 00:45:44 -0500 (Tue, 04 Feb 2025) EllapsedTime: 282.0 seconds RetCode: 0 Status: OK CheckDir: covRNA.Rcheck Warnings: 0