Package: covRNA Version: 1.32.0 Command: F:\biocbuild\bbs-3.20-bioc\R\bin\R.exe CMD INSTALL covRNA StartedAt: 2025-02-03 16:09:40 -0500 (Mon, 03 Feb 2025) EndedAt: 2025-02-03 16:10:02 -0500 (Mon, 03 Feb 2025) EllapsedTime: 22.1 seconds RetCode: 0 Status: OK