Package: covRNA Version: 1.32.0 Command: /home/biocbuild/R/R/bin/R CMD build --keep-empty-dirs --no-resave-data covRNA StartedAt: 2025-02-03 22:52:10 -0000 (Mon, 03 Feb 2025) EndedAt: 2025-02-03 22:53:07 -0000 (Mon, 03 Feb 2025) EllapsedTime: 57.0 seconds RetCode: 0 Status: OK PackageFile: covRNA_1.32.0.tar.gz PackageFileSize: 544.1 KiB