Package: covRNA Version: 1.32.0 Command: /home/biocbuild/R/R/bin/R CMD check --install=check:covRNA.install-out.txt --library=/home/biocbuild/R/R/site-library --no-vignettes --timings covRNA_1.32.0.tar.gz StartedAt: 2025-02-04 05:58:27 -0000 (Tue, 04 Feb 2025) EndedAt: 2025-02-04 06:02:44 -0000 (Tue, 04 Feb 2025) EllapsedTime: 256.2 seconds RetCode: 0 Status: OK CheckDir: covRNA.Rcheck Warnings: 0