Package: cpvSNP Version: 1.38.0 Command: /Library/Frameworks/R.framework/Resources/bin/R CMD INSTALL cpvSNP StartedAt: 2025-02-03 15:41:12 -0500 (Mon, 03 Feb 2025) EndedAt: 2025-02-03 15:42:34 -0500 (Mon, 03 Feb 2025) EllapsedTime: 82.1 seconds RetCode: 0 Status: OK