Package: cpvSNP Version: 1.38.0 Command: rm -rf cpvSNP.buildbin-libdir && mkdir cpvSNP.buildbin-libdir && F:\biocbuild\bbs-3.20-bioc\R\bin\R.exe CMD INSTALL --build --library=cpvSNP.buildbin-libdir cpvSNP_1.38.0.tar.gz StartedAt: 2025-02-14 07:49:46 -0500 (Fri, 14 Feb 2025) EndedAt: 2025-02-14 07:50:39 -0500 (Fri, 14 Feb 2025) EllapsedTime: 52.4 seconds RetCode: 0 Status: OK PackageFile: cpvSNP_1.38.0.zip PackageFileSize: 2.351 <A href="http://en.wikipedia.org/wiki/MiB" target="_blank">MiB</A>