Package: cqn
Version: 1.52.0
Maintainer: Kasper Daniel Hansen
MaintainerEmail: kasperdanielhansen at gmail.com
git_url: https://git.bioconductor.org/packages/cqn
git_branch: RELEASE_3_20
git_last_commit: acc5c24
git_last_commit_date: 2024-10-29 09:37:26 -0500 (Tue, 29 Oct 2024)