Package: cqn Version: 1.52.0 Command: rm -rf cqn.buildbin-libdir && mkdir cqn.buildbin-libdir && /Users/biocbuild/BBS/utils/build-universal.sh cqn_1.52.0.tar.gz /Library/Frameworks/R.framework/Resources/bin/R cqn.buildbin-libdir StartedAt: 2025-02-05 15:24:08 -0500 (Wed, 05 Feb 2025) EndedAt: 2025-02-05 15:24:17 -0500 (Wed, 05 Feb 2025) EllapsedTime: 9.0 seconds RetCode: 0 Status: OK PackageFile: cqn_1.52.0.tgz PackageFileSize: 1.058 MiB