Package: cqn Version: 1.52.0 Command: /Library/Frameworks/R.framework/Resources/bin/R CMD build --keep-empty-dirs --no-resave-data cqn StartedAt: 2025-02-03 21:31:42 -0500 (Mon, 03 Feb 2025) EndedAt: 2025-02-03 21:32:08 -0500 (Mon, 03 Feb 2025) EllapsedTime: 25.5 seconds RetCode: 0 Status: OK PackageFile: cqn_1.52.0.tar.gz PackageFileSize: 1.04 MiB