Package: cqn Version: 1.52.0 Command: /Library/Frameworks/R.framework/Resources/bin/R CMD INSTALL cqn StartedAt: 2025-02-03 17:10:03 -0500 (Mon, 03 Feb 2025) EndedAt: 2025-02-03 17:10:10 -0500 (Mon, 03 Feb 2025) EllapsedTime: 7.0 seconds RetCode: 0 Status: OK