Package: cqn Version: 1.52.0 Command: chmod a+r cqn -R && F:\biocbuild\bbs-3.20-bioc\R\bin\R.exe CMD build --keep-empty-dirs --no-resave-data cqn StartedAt: 2025-02-03 18:23:26 -0500 (Mon, 03 Feb 2025) EndedAt: 2025-02-03 18:23:54 -0500 (Mon, 03 Feb 2025) EllapsedTime: 27.5 seconds RetCode: 0 Status: OK PackageFile: cqn_1.52.0.tar.gz PackageFileSize: 718.8 KiB