Package: cqn Version: 1.52.0 Command: F:\biocbuild\bbs-3.20-bioc\R\bin\R.exe CMD check --no-multiarch --install=check:cqn.install-out.txt --library=F:\biocbuild\bbs-3.20-bioc\R\library --no-vignettes --timings cqn_1.52.0.tar.gz StartedAt: 2025-02-04 00:41:21 -0500 (Tue, 04 Feb 2025) EndedAt: 2025-02-04 00:42:25 -0500 (Tue, 04 Feb 2025) EllapsedTime: 63.6 seconds RetCode: 0 Status: OK CheckDir: cqn.Rcheck Warnings: 0