Package: cqn Version: 1.52.0 Command: F:\biocbuild\bbs-3.20-bioc\R\bin\R.exe CMD INSTALL cqn StartedAt: 2025-02-03 16:09:32 -0500 (Mon, 03 Feb 2025) EndedAt: 2025-02-03 16:09:42 -0500 (Mon, 03 Feb 2025) EllapsedTime: 10.4 seconds RetCode: 0 Status: OK