Package: crisprBase Version: 1.10.0 Command: /home/biocbuild/bbs-3.20-bioc/R/bin/R CMD check --install=check:crisprBase.install-out.txt --library=/home/biocbuild/bbs-3.20-bioc/R/site-library --timings crisprBase_1.10.0.tar.gz StartedAt: 2025-02-03 21:21:05 -0500 (Mon, 03 Feb 2025) EndedAt: 2025-02-03 21:22:42 -0500 (Mon, 03 Feb 2025) EllapsedTime: 97.1 seconds RetCode: 0 Status: OK CheckDir: crisprBase.Rcheck Warnings: 0