Package: crisprBase
Version: 1.9.0
Command: rm -rf crisprBase.buildbin-libdir && mkdir crisprBase.buildbin-libdir && C:\Users\biocbuild\bbs-3.20-bioc\R\bin\R.exe CMD INSTALL --build --library=crisprBase.buildbin-libdir crisprBase_1.9.0.tar.gz
StartedAt: 2024-07-16 06:03:52 -0400 (Tue, 16 Jul 2024)
EndedAt: 2024-07-16 06:04:17 -0400 (Tue, 16 Jul 2024)
EllapsedTime: 25.7 seconds
RetCode: 0
Status: OK
PackageFile: crisprBase_1.9.0.zip
PackageFileSize: 1.462 <A href="http://en.wikipedia.org/wiki/MiB" target="_blank">MiB</A>