Package: crisprBase Version: 1.10.0 Command: /home/biocbuild/R/R/bin/R CMD build --keep-empty-dirs --no-resave-data crisprBase StartedAt: 2025-02-03 22:53:09 -0000 (Mon, 03 Feb 2025) EndedAt: 2025-02-03 22:53:39 -0000 (Mon, 03 Feb 2025) EllapsedTime: 30.0 seconds RetCode: 0 Status: OK PackageFile: crisprBase_1.10.0.tar.gz PackageFileSize: 1.76 MiB