Package: crisprBowtie Version: 1.10.0 Command: rm -rf crisprBowtie.buildbin-libdir && mkdir crisprBowtie.buildbin-libdir && /Users/biocbuild/BBS/utils/build-universal.sh crisprBowtie_1.10.0.tar.gz /Library/Frameworks/R.framework/Resources/bin/R crisprBowtie.buildbin-libdir StartedAt: 2025-02-01 14:29:21 -0500 (Sat, 01 Feb 2025) EndedAt: 2025-02-01 14:30:05 -0500 (Sat, 01 Feb 2025) EllapsedTime: 43.7 seconds RetCode: 0 Status: OK PackageFile: crisprBowtie_1.10.0.tgz PackageFileSize: 335.3 KiB