Package: crisprBowtie Version: 1.10.0 Command: /Library/Frameworks/R.framework/Resources/bin/R CMD build --keep-empty-dirs --no-resave-data crisprBowtie StartedAt: 2025-01-30 21:40:32 -0500 (Thu, 30 Jan 2025) EndedAt: 2025-01-30 21:41:31 -0500 (Thu, 30 Jan 2025) EllapsedTime: 58.7 seconds RetCode: 0 Status: OK PackageFile: crisprBowtie_1.10.0.tar.gz PackageFileSize: 319.3 KiB