Package: crisprBowtie Version: 1.10.0 Command: /home/biocbuild/bbs-3.20-bioc/R/bin/R CMD check --install=check:crisprBowtie.install-out.txt --library=/home/biocbuild/bbs-3.20-bioc/R/site-library --timings crisprBowtie_1.10.0.tar.gz StartedAt: 2025-01-30 21:11:09 -0500 (Thu, 30 Jan 2025) EndedAt: 2025-01-30 21:15:10 -0500 (Thu, 30 Jan 2025) EllapsedTime: 241.2 seconds RetCode: 0 Status: OK CheckDir: crisprBowtie.Rcheck Warnings: 0