Package: crisprBowtie Version: 1.10.0 Command: /home/biocbuild/bbs-3.20-bioc/R/bin/R CMD INSTALL crisprBowtie StartedAt: 2025-01-30 15:22:48 -0500 (Thu, 30 Jan 2025) EndedAt: 2025-01-30 15:23:20 -0500 (Thu, 30 Jan 2025) EllapsedTime: 32.4 seconds RetCode: 0 Status: OK