Package: crisprBowtie Version: 1.10.0 Command: /home/biocbuild/R/R/bin/R CMD INSTALL crisprBowtie StartedAt: 2025-01-30 20:29:22 -0000 (Thu, 30 Jan 2025) EndedAt: 2025-01-30 20:30:01 -0000 (Thu, 30 Jan 2025) EllapsedTime: 38.2 seconds RetCode: 0 Status: OK