Package: crisprBwa Version: 1.10.0 Command: /Library/Frameworks/R.framework/Resources/bin/R CMD build --keep-empty-dirs --no-resave-data crisprBwa StartedAt: 2025-02-03 21:32:52 -0500 (Mon, 03 Feb 2025) EndedAt: 2025-02-03 21:33:47 -0500 (Mon, 03 Feb 2025) EllapsedTime: 55.1 seconds RetCode: 0 Status: OK PackageFile: crisprBwa_1.10.0.tar.gz PackageFileSize: 359.6 KiB