Package: crisprBwa Version: 1.10.0 Command: rm -rf crisprBwa.buildbin-libdir && mkdir crisprBwa.buildbin-libdir && /Users/biocbuild/BBS/utils/build-universal.sh crisprBwa_1.10.0.tar.gz /Library/Frameworks/R.framework/Resources/bin/R crisprBwa.buildbin-libdir StartedAt: 2025-01-31 12:36:08 -0500 (Fri, 31 Jan 2025) EndedAt: 2025-01-31 12:37:18 -0500 (Fri, 31 Jan 2025) EllapsedTime: 70.9 seconds RetCode: 0 Status: OK PackageFile: crisprBwa_1.10.0.tgz PackageFileSize: 369.4 KiB