Package: crisprBwa Version: 1.10.0 Command: /Library/Frameworks/R.framework/Resources/bin/R CMD INSTALL crisprBwa StartedAt: 2025-01-30 15:39:29 -0500 (Thu, 30 Jan 2025) EndedAt: 2025-01-30 15:40:40 -0500 (Thu, 30 Jan 2025) EllapsedTime: 71.1 seconds RetCode: 0 Status: OK