Package: crisprBwa
Version: 1.10.0
Command: /home/biocbuild/bbs-3.20-bioc/R/bin/R CMD check --install=check:crisprBwa.install-out.txt --library=/home/biocbuild/bbs-3.20-bioc/R/site-library --timings crisprBwa_1.10.0.tar.gz
StartedAt: 2025-02-17 21:07:05 -0500 (Mon, 17 Feb 2025)
EndedAt: 2025-02-17 21:11:13 -0500 (Mon, 17 Feb 2025)
EllapsedTime: 247.2 seconds
RetCode: 0
Status: OK
CheckDir: crisprBwa.Rcheck
Warnings: 0