Package: crisprBwa Version: 1.10.0 Command: /home/biocbuild/R/R/bin/R CMD check --install=check:crisprBwa.install-out.txt --library=/home/biocbuild/R/R/site-library --no-vignettes --timings crisprBwa_1.10.0.tar.gz StartedAt: 2025-01-31 05:16:07 -0000 (Fri, 31 Jan 2025) EndedAt: 2025-01-31 05:20:53 -0000 (Fri, 31 Jan 2025) EllapsedTime: 285.2 seconds RetCode: 0 Status: OK CheckDir: crisprBwa.Rcheck Warnings: 0