Package: crisprBwa Version: 1.10.0 Command: /home/biocbuild/R/R/bin/R CMD INSTALL crisprBwa StartedAt: 2025-01-30 20:27:50 -0000 (Thu, 30 Jan 2025) EndedAt: 2025-01-30 20:28:28 -0000 (Thu, 30 Jan 2025) EllapsedTime: 38.7 seconds RetCode: 0 Status: OK