Package: crisprShiny Version: 1.2.0 Command: /Library/Frameworks/R.framework/Resources/bin/R CMD INSTALL crisprShiny StartedAt: 2025-02-03 16:55:59 -0500 (Mon, 03 Feb 2025) EndedAt: 2025-02-03 16:57:00 -0500 (Mon, 03 Feb 2025) EllapsedTime: 61.4 seconds RetCode: 0 Status: OK