Package: crisprShiny Version: 1.2.0 Command: /home/biocbuild/R/R/bin/R CMD build --keep-empty-dirs --no-resave-data crisprShiny StartedAt: 2024-11-20 00:01:32 -0000 (Wed, 20 Nov 2024) EndedAt: 2024-11-20 00:02:51 -0000 (Wed, 20 Nov 2024) EllapsedTime: 78.1 seconds RetCode: 0 Status: OK PackageFile: crisprShiny_1.2.0.tar.gz PackageFileSize: 1.581 MiB