Package: crisprShiny Version: 1.2.0 Command: /Library/Frameworks/R.framework/Resources/bin/R CMD check --install=check:crisprShiny.install-out.txt --library=/Library/Frameworks/R.framework/Resources/library --no-vignettes --timings crisprShiny_1.2.0.tar.gz StartedAt: 2024-11-19 20:59:07 -0500 (Tue, 19 Nov 2024) EndedAt: 2024-11-19 21:09:13 -0500 (Tue, 19 Nov 2024) EllapsedTime: 606.5 seconds RetCode: 0 Status: OK CheckDir: crisprShiny.Rcheck Warnings: 0