Package: crisprShiny Version: 1.2.0 Command: /Library/Frameworks/R.framework/Resources/bin/R CMD check --install=check:crisprShiny.install-out.txt --library=/Library/Frameworks/R.framework/Resources/library --no-vignettes --timings crisprShiny_1.2.0.tar.gz StartedAt: 2025-02-04 01:56:00 -0500 (Tue, 04 Feb 2025) EndedAt: 2025-02-04 02:13:01 -0500 (Tue, 04 Feb 2025) EllapsedTime: 1020.7 seconds RetCode: 0 Status: OK CheckDir: crisprShiny.Rcheck Warnings: 0