Package: crisprShiny Version: 1.2.0 Command: /home/biocbuild/bbs-3.20-bioc/R/bin/R CMD build --keep-empty-dirs --no-resave-data --md5 crisprShiny StartedAt: 2025-02-03 17:01:13 -0500 (Mon, 03 Feb 2025) EndedAt: 2025-02-03 17:02:08 -0500 (Mon, 03 Feb 2025) EllapsedTime: 55.1 seconds RetCode: 0 Status: OK PackageFile: crisprShiny_1.2.0.tar.gz PackageFileSize: 1.584 MiB