Package: crisprShiny Version: 1.2.0 Command: /home/biocbuild/bbs-3.20-bioc/R/bin/R CMD check --install=check:crisprShiny.install-out.txt --library=/home/biocbuild/bbs-3.20-bioc/R/site-library --timings crisprShiny_1.2.0.tar.gz StartedAt: 2025-02-03 21:22:42 -0500 (Mon, 03 Feb 2025) EndedAt: 2025-02-03 21:30:12 -0500 (Mon, 03 Feb 2025) EllapsedTime: 450.3 seconds RetCode: 0 Status: OK CheckDir: crisprShiny.Rcheck Warnings: 0