Package: crisprShiny Version: 1.2.0 Command: /home/biocbuild/bbs-3.20-bioc/R/bin/R CMD INSTALL crisprShiny StartedAt: 2025-02-03 15:46:40 -0500 (Mon, 03 Feb 2025) EndedAt: 2025-02-03 15:47:38 -0500 (Mon, 03 Feb 2025) EllapsedTime: 57.1 seconds RetCode: 0 Status: OK