Package: crisprShiny Version: 1.1.0 Command: rm -rf crisprShiny.buildbin-libdir && mkdir crisprShiny.buildbin-libdir && C:\Users\biocbuild\bbs-3.20-bioc\R\bin\R.exe CMD INSTALL --build --library=crisprShiny.buildbin-libdir crisprShiny_1.1.0.tar.gz StartedAt: 2024-07-16 06:03:59 -0400 (Tue, 16 Jul 2024) EndedAt: 2024-07-16 06:05:04 -0400 (Tue, 16 Jul 2024) EllapsedTime: 64.5 seconds RetCode: 0 Status: OK PackageFile: crisprShiny_1.1.0.zip PackageFileSize: 1.297 MiB