Package: crisprShiny Version: 1.2.0 Command: /home/biocbuild/R/R/bin/R CMD build --keep-empty-dirs --no-resave-data crisprShiny StartedAt: 2025-02-03 22:54:03 -0000 (Mon, 03 Feb 2025) EndedAt: 2025-02-03 22:55:11 -0000 (Mon, 03 Feb 2025) EllapsedTime: 68.0 seconds RetCode: 0 Status: OK PackageFile: crisprShiny_1.2.0.tar.gz PackageFileSize: 1.581 MiB