Package: crisprShiny Version: 1.2.0 Command: /home/biocbuild/R/R/bin/R CMD check --install=check:crisprShiny.install-out.txt --library=/home/biocbuild/R/R/site-library --no-vignettes --timings crisprShiny_1.2.0.tar.gz StartedAt: 2025-02-04 06:01:00 -0000 (Tue, 04 Feb 2025) EndedAt: 2025-02-04 06:09:44 -0000 (Tue, 04 Feb 2025) EllapsedTime: 524.4 seconds RetCode: 0 Status: OK CheckDir: crisprShiny.Rcheck Warnings: 0