Package: crisprShiny Version: 1.2.0 Command: /home/biocbuild/R/R/bin/R CMD INSTALL crisprShiny StartedAt: 2025-02-03 21:01:23 -0000 (Mon, 03 Feb 2025) EndedAt: 2025-02-03 21:02:27 -0000 (Mon, 03 Feb 2025) EllapsedTime: 63.6 seconds RetCode: 0 Status: OK