Package: crisprVerse Version: 1.8.0 Command: /home/biocbuild/R/R/bin/R CMD check --install=check:crisprVerse.install-out.txt --library=/home/biocbuild/R/R/site-library --no-vignettes --timings crisprVerse_1.8.0.tar.gz StartedAt: 2024-11-20 06:41:31 -0000 (Wed, 20 Nov 2024) EndedAt: 2024-11-20 06:49:41 -0000 (Wed, 20 Nov 2024) EllapsedTime: 489.8 seconds RetCode: 1 Status: ERROR CheckDir: crisprVerse.Rcheck Warnings: NA