Package: crisprVerse Version: 1.8.0 Command: rm -rf crisprVerse.buildbin-libdir && mkdir crisprVerse.buildbin-libdir && F:\biocbuild\bbs-3.20-bioc\R\bin\R.exe CMD INSTALL --build --library=crisprVerse.buildbin-libdir crisprVerse_1.8.0.tar.gz StartedAt: 2025-02-04 08:17:29 -0500 (Tue, 04 Feb 2025) EndedAt: 2025-02-04 08:18:29 -0500 (Tue, 04 Feb 2025) EllapsedTime: 59.7 seconds RetCode: 0 Status: OK PackageFile: crisprVerse_1.8.0.zip PackageFileSize: 313.2 KiB