Package: crisprVerse Version: 1.8.0 Command: /home/biocbuild/R/R/bin/R CMD INSTALL crisprVerse StartedAt: 2025-02-03 20:59:25 -0000 (Mon, 03 Feb 2025) EndedAt: 2025-02-03 21:00:26 -0000 (Mon, 03 Feb 2025) EllapsedTime: 61.9 seconds RetCode: 0 Status: OK