Package: crisprViz Version: 1.8.0 Command: /home/biocbuild/R/R/bin/R CMD check --install=check:crisprViz.install-out.txt --library=/home/biocbuild/R/R/site-library --no-vignettes --timings crisprViz_1.8.0.tar.gz StartedAt: 2024-11-20 06:41:33 -0000 (Wed, 20 Nov 2024) EndedAt: 2024-11-20 06:50:58 -0000 (Wed, 20 Nov 2024) EllapsedTime: 564.9 seconds RetCode: 0 Status: OK CheckDir: crisprViz.Rcheck Warnings: 0