Package: crisprViz Version: 1.8.0 Command: /Library/Frameworks/R.framework/Resources/bin/R CMD INSTALL crisprViz StartedAt: 2025-02-03 16:07:40 -0500 (Mon, 03 Feb 2025) EndedAt: 2025-02-03 16:09:28 -0500 (Mon, 03 Feb 2025) EllapsedTime: 108.5 seconds RetCode: 0 Status: OK