Package: crisprViz Version: 1.8.0 Command: rm -rf crisprViz.buildbin-libdir && mkdir crisprViz.buildbin-libdir && F:\biocbuild\bbs-3.20-bioc\R\bin\R.exe CMD INSTALL --build --library=crisprViz.buildbin-libdir crisprViz_1.8.0.tar.gz StartedAt: 2025-02-04 08:17:31 -0500 (Tue, 04 Feb 2025) EndedAt: 2025-02-04 08:18:33 -0500 (Tue, 04 Feb 2025) EllapsedTime: 61.2 seconds RetCode: 0 Status: OK PackageFile: crisprViz_1.8.0.zip PackageFileSize: 746.7 KiB