Package: crisprViz Version: 1.8.0 Command: F:\biocbuild\bbs-3.20-bioc\R\bin\R.exe CMD INSTALL crisprViz StartedAt: 2025-02-03 16:58:36 -0500 (Mon, 03 Feb 2025) EndedAt: 2025-02-03 16:59:46 -0500 (Mon, 03 Feb 2025) EllapsedTime: 70.1 seconds RetCode: 0 Status: OK