Package: crlmm Version: 1.64.0 Command: /Library/Frameworks/R.framework/Resources/bin/R CMD build --keep-empty-dirs --no-resave-data crlmm StartedAt: 2025-02-03 21:37:22 -0500 (Mon, 03 Feb 2025) EndedAt: 2025-02-03 21:40:39 -0500 (Mon, 03 Feb 2025) EllapsedTime: 197.4 seconds RetCode: 0 Status: OK PackageFile: crlmm_1.64.0.tar.gz PackageFileSize: 4.276 MiB