Package: crlmm Version: 1.64.0 Command: /Library/Frameworks/R.framework/Resources/bin/R CMD check --install=check:crlmm.install-out.txt --library=/Library/Frameworks/R.framework/Resources/library --no-vignettes --timings crlmm_1.64.0.tar.gz StartedAt: 2024-11-08 23:55:51 -0500 (Fri, 08 Nov 2024) EndedAt: 2024-11-09 00:03:32 -0500 (Sat, 09 Nov 2024) EllapsedTime: 461.5 seconds RetCode: 0 Status: WARNINGS CheckDir: crlmm.Rcheck Warnings: 1