Package: crlmm Version: 1.64.0 Command: /Library/Frameworks/R.framework/Resources/bin/R CMD check --install=check:crlmm.install-out.txt --library=/Library/Frameworks/R.framework/Resources/library --no-vignettes --timings crlmm_1.64.0.tar.gz StartedAt: 2025-02-04 01:57:33 -0500 (Tue, 04 Feb 2025) EndedAt: 2025-02-04 02:18:31 -0500 (Tue, 04 Feb 2025) EllapsedTime: 1257.4 seconds RetCode: 0 Status: WARNINGS CheckDir: crlmm.Rcheck Warnings: 1