Package: crlmm Version: 1.64.0 Command: chmod a+r crlmm -R && F:\biocbuild\bbs-3.20-bioc\R\bin\R.exe CMD build --keep-empty-dirs --no-resave-data crlmm StartedAt: 2025-02-03 18:25:15 -0500 (Mon, 03 Feb 2025) EndedAt: 2025-02-03 18:28:22 -0500 (Mon, 03 Feb 2025) EllapsedTime: 187.2 seconds RetCode: 0 Status: OK PackageFile: crlmm_1.64.0.tar.gz PackageFileSize: 4.092 MiB